BEGIN:VCALENDAR
VERSION:2.0
PRODID:-//Rockland Community College - ECPv6.15.20//NONSGML v1.0//EN
CALSCALE:GREGORIAN
METHOD:PUBLISH
X-WR-CALNAME:Rockland Community College
X-ORIGINAL-URL:https://sunyrockland.edu
X-WR-CALDESC:Events for Rockland Community College
REFRESH-INTERVAL;VALUE=DURATION:PT1H
X-Robots-Tag:noindex
X-PUBLISHED-TTL:PT1H
BEGIN:VTIMEZONE
TZID:America/New_York
BEGIN:DAYLIGHT
TZOFFSETFROM:-0500
TZOFFSETTO:-0400
TZNAME:EDT
DTSTART:20250309T070000
END:DAYLIGHT
BEGIN:STANDARD
TZOFFSETFROM:-0400
TZOFFSETTO:-0500
TZNAME:EST
DTSTART:20251102T060000
END:STANDARD
BEGIN:DAYLIGHT
TZOFFSETFROM:-0500
TZOFFSETTO:-0400
TZNAME:EDT
DTSTART:20260308T070000
END:DAYLIGHT
BEGIN:STANDARD
TZOFFSETFROM:-0400
TZOFFSETTO:-0500
TZNAME:EST
DTSTART:20261101T060000
END:STANDARD
BEGIN:DAYLIGHT
TZOFFSETFROM:-0500
TZOFFSETTO:-0400
TZNAME:EDT
DTSTART:20270314T070000
END:DAYLIGHT
BEGIN:STANDARD
TZOFFSETFROM:-0400
TZOFFSETTO:-0500
TZNAME:EST
DTSTART:20271107T060000
END:STANDARD
END:VTIMEZONE
BEGIN:VEVENT
DTSTART;TZID=America/New_York:20260317T120000
DTEND;TZID=America/New_York:20260317T180000
DTSTAMP:20260421T075607
CREATED:20251209T164445Z
LAST-MODIFIED:20260311T174403Z
UID:10001863-1773748800-1773770400@sunyrockland.edu
SUMMARY:Planned Parenthood Mobile Health Clinic
DESCRIPTION:Location: Parking lot next to Academic I and the Technology Center \nThe Connection Center is collaborating with Planned Parenthood to bring their Mobile Health Center to RCC! \nRCC students do not need to make an appointment; walk-ins are welcome! Please bring your RCC ID\, State ID\, and/or health insurance card if you have one. The cost for RCC students will be free or on a sliding scale based on income and insurance. Services provided include HPV vaccinations\, STI testing\, birth control\, and more! \nFor more information\, contact Steven Marks at steven.marks@sunyrockland.edu or 845-574-4390.
URL:https://sunyrockland.edu/event/planned-parenthood-mobile-health-clinic-2026-03/
CATEGORIES:Connection Center Events,Health & Wellness
END:VEVENT
END:VCALENDAR