BEGIN:VCALENDAR
VERSION:2.0
PRODID:-//Rockland Community College - ECPv6.15.20//NONSGML v1.0//EN
CALSCALE:GREGORIAN
METHOD:PUBLISH
X-WR-CALNAME:Rockland Community College
X-ORIGINAL-URL:https://sunyrockland.edu
X-WR-CALDESC:Events for Rockland Community College
REFRESH-INTERVAL;VALUE=DURATION:PT1H
X-Robots-Tag:noindex
X-PUBLISHED-TTL:PT1H
BEGIN:VTIMEZONE
TZID:America/New_York
BEGIN:DAYLIGHT
TZOFFSETFROM:-0500
TZOFFSETTO:-0400
TZNAME:EDT
DTSTART:20250309T070000
END:DAYLIGHT
BEGIN:STANDARD
TZOFFSETFROM:-0400
TZOFFSETTO:-0500
TZNAME:EST
DTSTART:20251102T060000
END:STANDARD
BEGIN:DAYLIGHT
TZOFFSETFROM:-0500
TZOFFSETTO:-0400
TZNAME:EDT
DTSTART:20260308T070000
END:DAYLIGHT
BEGIN:STANDARD
TZOFFSETFROM:-0400
TZOFFSETTO:-0500
TZNAME:EST
DTSTART:20261101T060000
END:STANDARD
BEGIN:DAYLIGHT
TZOFFSETFROM:-0500
TZOFFSETTO:-0400
TZNAME:EDT
DTSTART:20270314T070000
END:DAYLIGHT
BEGIN:STANDARD
TZOFFSETFROM:-0400
TZOFFSETTO:-0500
TZNAME:EST
DTSTART:20271107T060000
END:STANDARD
END:VTIMEZONE
BEGIN:VEVENT
DTSTART;TZID=America/New_York:20260421T110000
DTEND;TZID=America/New_York:20260421T170000
DTSTAMP:20260421T062626
CREATED:20251209T165152Z
LAST-MODIFIED:20260311T172752Z
UID:10001864-1776769200-1776790800@sunyrockland.edu
SUMMARY:Planned Parenthood Mobile Health Clinic
DESCRIPTION:Location: Parking lot next to Academic I and the Technology Center \nThe Connection Center is collaborating with Planned Parenthood to bring their Mobile Health Center to RCC! \nRCC students do not need to make an appointment; walk-ins are welcome! Please bring your RCC ID\, State ID\, and/or health insurance card if you have one. The cost for RCC students will be free or on a sliding scale based on income and insurance. Services provided include HPV vaccinations\, STI testing\, birth control\, and more! \nFor more information\, contact Steven Marks at steven.marks@sunyrockland.edu or 845-574-4390.
URL:https://sunyrockland.edu/event/planned-parenthood-mobile-health-clinic-2026-04/
CATEGORIES:Connection Center Events,Health & Wellness
END:VEVENT
BEGIN:VEVENT
DTSTART;TZID=America/New_York:20260428T120000
DTEND;TZID=America/New_York:20260428T140000
DTSTAMP:20260421T062626
CREATED:20260402T145608Z
LAST-MODIFIED:20260402T145608Z
UID:10002083-1777377600-1777384800@sunyrockland.edu
SUMMARY:Annual Health and Wellness Fair
DESCRIPTION:Location: Quad\nCoordinated by Professor Inez Rivera \nThe goal of the Fair\, in keeping with the mission of the Health & Wellness initiative\, is to introduce students to healthy practices that support wellness on many levels (physical\, emotional\, social\, intellectual/academic\, spiritual\, economic\, etc.)  At each “station” we ask that\, whatever you envision\, there be an interactive component so that students will actively engage in exploring and considering the area you are presenting. \nThis event will also serve as the kickoff to the 2026 Unity in Community Festival.
URL:https://sunyrockland.edu/event/annual-health-and-wellness-fair/
CATEGORIES:Health & Wellness,Unity in Community
END:VEVENT
BEGIN:VEVENT
DTSTART;TZID=America/New_York:20260505T110000
DTEND;TZID=America/New_York:20260505T170000
DTSTAMP:20260421T062626
CREATED:20260224T193100Z
LAST-MODIFIED:20260311T145634Z
UID:10002023-1777978800-1778000400@sunyrockland.edu
SUMMARY:Planned Parenthood Mobile Health Clinic
DESCRIPTION:Location: Parking lot next to Academic I and the Technology Center \nThe Connection Center is collaborating with Planned Parenthood to bring their Mobile Health Center to RCC! \nRCC students do not need to make an appointment; walk-ins are welcome! Please bring your RCC ID\, State ID\, and/or health insurance card if you have one. The cost for RCC students will be free or on a sliding scale based on income and insurance. Services provided include HPV vaccinations\, STI testing\, birth control\, and more! \nFor more information\, contact Steven Marks at steven.marks@sunyrockland.edu or 845-574-4390.
URL:https://sunyrockland.edu/event/planned-parenthood-mobile-health-clinic-05-2026/
CATEGORIES:Connection Center Events,Health & Wellness
END:VEVENT
END:VCALENDAR